BEGIN:VCALENDAR
VERSION:2.0
CALSCALE:GREGORIAN
PRODID:-//MyApp//Calendar 1.0//EN
BEGIN:VEVENT
METHOD:PUBLISH
UID:63527@regionalniportaly.cz
DTSTAMP:20260422T023732Z
DTSTART;VALUE=DATE:20260325
DTEND;VALUE=DATE:20260326
SUMMARY:Bouřlivé výšiny
DESCRIPTION:Na větrných yorkshirských pláních se zrodila láska\, která vzdorovala všem pravidlům… a zničila vše\, co jí stálo v cestě. Heathcliff (Jacob Elordi) a Catherine (Margot Robbie). Inspirováno největším milostným příběhem všech dob.\n \nVstupné: 130 KčVstupenky v předprodeji online nebo půl hodiny před filmem.\n \nPřístupnost 15+ / 2026 / USA / romantický / Režie: Emerald FennellNa větrných yorkshirských pláních se zrodila láska\, která vzdorovala všem pravidlům… a zničila vše\, co jí stálo v cestě. Heathcliff (Jacob Elordi) a Catherine (Margot Robbie) – dva osudy spojené vášní\, rozdělené osudem. Inspirováno největším milostným příběhem všech dob.\nzměna programu vyhrazena
LOCATION:Strážnice
END:VEVENT
END:VCALENDAR