BEGIN:VCALENDAR
VERSION:2.0
CALSCALE:GREGORIAN
PRODID:-//MyApp//Calendar 1.0//EN
BEGIN:VEVENT
METHOD:PUBLISH
UID:63528@regionalniportaly.cz
DTSTAMP:20260422T023722Z
DTSTART;VALUE=DATE:20260329
DTEND;VALUE=DATE:20260330
SUMMARY:Dívka Momo a zloději času
DESCRIPTION:Momo je malá dívka\, která žije v ruinách starého amfiteátru a má neobyčejný dar. Pozorně naslouchá lidem ve svém okolí a každému\, koho potká\, se díky ní začne zázračně dařit. Jednoho dne se objeví mocná mezinárodní korporace\, která začne krást všem čas a na Momo ho najednou nikdo nemá.\n \nVstupné: 150 Kč\, děti: 130 KčVstupenky v předprodeji online nebo půl hodiny před filmem.\n \nPřístupný / 2026 / Německo / rodinný\, fantasy / Režie: Christian DitterMomo je malá dívka\, která žije v ruinách starého amfiteátru a má neobyčejný dar. Pozorně naslouchá lidem ve svém okolí a každému\, koho potká\, se díky ní začne zázračně dařit. Jednoho dne se objeví mocná mezinárodní korporace\, která začne krást všem čas a na Momo ho najednou nikdo nemá. Když si čas na ni nenajde ani její nejlepší kamarád\, Momo je naprosto zoufalá. Tehdy ji navštíví velmi stará a velmi zvláštní želva\, která ji zavede k mistru Hodinusovi\, záhadnému strážci času. Společně připraví plán\, jak porazit zloděje času. Podaří se jim vyhrát tento napínavý závod s časem?\nzměna programu vyhrazena
LOCATION:Strážnice
END:VEVENT
END:VCALENDAR