BEGIN:VCALENDAR
VERSION:2.0
CALSCALE:GREGORIAN
PRODID:-//MyApp//Calendar 1.0//EN
BEGIN:VEVENT
METHOD:PUBLISH
UID:63974@regionalniportaly.cz
DTSTAMP:20260419T190408Z
DTSTART;VALUE=DATE:20260509
DTEND;VALUE=DATE:20260510
SUMMARY:Festival Bartkův mlýn
DESCRIPTION:První festival na Bartkově mlýně!Oslavte s námi Den otevřených mlýnů a s ním i 910. výročí vzniku mlýnářského znaku festivalovým dnem na Bartkově mlýně v Nivnici!PRO KOHO je náš festival?Pro rodiny s dětmiPro fanoušky mlýnů a historiePro lidi\, kteří své příběhy spojují s památkamiPro milovníky world musicPro všechny!CO SE CHYSTÁ?Prohlídky historické mlýnice s průvodcemZábavná poznávačka mlýnské technologie o ceny - pro ty\, co dávali pozor na prohlídkách&nbsp\;Přednášky a diskuse o památkové péči\, historii Bartkova mlýna a J. A. KomenskémVýstava v nově zpřístupněné mlýnské KlepanděKONCERTYTOMÁŠ KOČKO a Intimní orchestr - komorní trio je ne tak často slýchanou variací\, v jaké můžeme slyšet tvorbu valašského barda Tomáše Kočka\, jehož hudba je pevně zakořeněna v moravské tradici\, nese však také vůně Balkánu\, starých slovanských mýtů i současného rockového a někdy až metalového nádechu.DAVID ZIMA &amp\; DALENA MORÁVKOVÁ - dvojice hudebníků (Tempus\, Brněnská Camerata)\, kteří našli zalíbení v historických nástrojích a staré hudbě\; zazní staré melodie i moderní skladby v podání fléten a niněry.&nbsp\;Účastí na Festivalu Bartkův mlýn podpoříte naši památku a uděláte nám radost z krásně stráveného společného času. Těšíme se na Vás!
LOCATION:Nivnice
END:VEVENT
END:VCALENDAR