BEGIN:VCALENDAR
VERSION:2.0
CALSCALE:GREGORIAN
PRODID:-//MyApp//Calendar 1.0//EN
BEGIN:VEVENT
METHOD:PUBLISH
UID:63997@regionalniportaly.cz
DTSTAMP:20260422T085047Z
DTSTART;VALUE=DATE:20260306
DTEND;VALUE=DATE:20260307
SUMMARY:Poberta - premiéra
DESCRIPTION:Zloděj\, lupič\, chmaták\, podvodník\, darebák\, gauner – to všechno se skrývá v názvu nového hraného filmu Poberta. Režisérem stejnojmenné celovečerní heist (lupičské) komedie je Ondřej Hudeček. Ten je mimo jiné známý tím\, že jako zcela první český režisér zvítězil na slavném filmovém festivalu v Sundance.\n \nkomedie\, kriminální / přístupnost 12+ / Česko / PREMIÉRA / režie: Ondřej Hudeček\n \nVstupné: 150 KčVstupenky v předprodeji online nebo půl hodiny před filmem.
LOCATION:Strážnice
END:VEVENT
END:VCALENDAR