BEGIN:VCALENDAR
VERSION:2.0
CALSCALE:GREGORIAN
PRODID:-//MyApp//Calendar 1.0//EN
BEGIN:VEVENT
METHOD:PUBLISH
UID:63998@regionalniportaly.cz
DTSTAMP:20260419T132904Z
DTSTART;VALUE=DATE:20260426
DTEND;VALUE=DATE:20260427
SUMMARY:Expediční kamera 2026 Strážnice
DESCRIPTION:Expediční kamera je filmový festival\, který k vám již od roku 2009 přináší nejlepší cestovatelské a dobrodružné filmy z mezinárodní i domácí produkce.\n \nVstupné: 150\,- studenti\, senioři: 130\,- / happy hours od 18:00 sleva 50%\n \n🎒 Co uvidíte?\n\nLangtang: fotografická výprava do srdce Himaláje\nStopy divočiny: 4000 km pěšky Patagonií\nBhútán: stezky štěstí na horských kolech\nSamuel Volery: legenda slackline\nPod bodem varu: extrémní ultramaraton v Sahaře\nPatagonie Asie: drsná krása Kyrgyzstánu\nNa vrchol Pointe Percée: osobní výzva ve francouzských Alpách\nNa kajaku jižním Grónskem: ledovce\, tuleni a panenská příroda\n\n🎟️ Vstupné: 150 Kč / studenti a senioři 130 Kč\n⏰ Happy hours od 18:00: sleva 50 %\n📍 Kino Svět Strážnice\nPřijďte se nadechnout světa\, dobrodružství a inspirace.\n🌄\n 
LOCATION:Strážnice
END:VEVENT
END:VCALENDAR