BEGIN:VCALENDAR
VERSION:2.0
CALSCALE:GREGORIAN
PRODID:-//MyApp//Calendar 1.0//EN
BEGIN:VEVENT
METHOD:PUBLISH
UID:64153@regionalniportaly.cz
DTSTAMP:20260424T161444Z
DTSTART;VALUE=DATE:20260621
DTEND;VALUE=DATE:20260622
SUMMARY:Zbořilovy Milotice - 10. ročník
DESCRIPTION:Prožijte nezapomenutelné nedělní odpoledne plné krásné hudby a malebného prostředí Zámku v Miloticích 21. června 2026 v 16 hodin.Naše pozvání přijaly kapely Mladá muzika Šardice\, Žadovjáci\, Túfaranka a na závěr zahraje pořádající Mistříňanka. Budeme se na Vás těšit na hospodářském nádvoří Zámku Milotice.
LOCATION:Milotice
END:VEVENT
END:VCALENDAR