BEGIN:VCALENDAR
VERSION:2.0
CALSCALE:GREGORIAN
PRODID:-//MyApp//Calendar 1.0//EN
BEGIN:VEVENT
METHOD:PUBLISH
UID:64313@regionalniportaly.cz
DTSTAMP:20260419T174511Z
DTSTART;VALUE=DATE:20260516
DTEND;VALUE=DATE:20260517
SUMMARY:ForRest Fest - Reggay 20yo
DESCRIPTION:Znovuzrozený festiválek na novém místě!!! Tentokrát pod taktovkou kapely Reggay band která oslaví 20 let živoření. Děláme to od srdce\, přijď nás podpořit a užít si kvalitní hudbu a pohodovou atmosféru.&nbsp\;Reggae | ska | latino | world music festival
LOCATION:Uherský Brod
END:VEVENT
END:VCALENDAR