BEGIN:VCALENDAR
VERSION:2.0
CALSCALE:GREGORIAN
PRODID:-//MyApp//Calendar 1.0//EN
BEGIN:VEVENT
METHOD:PUBLISH
UID:65405@regionalniportaly.cz
DTSTAMP:20260421T200407Z
DTSTART;VALUE=DATE:20260501
DTEND;VALUE=DATE:20260502
SUMMARY:Znouzectnost
DESCRIPTION:Taneček na Dobrém&nbsp\;Místě ...&nbsp\;
LOCATION:Uherský Brod
END:VEVENT
END:VCALENDAR