BEGIN:VCALENDAR
VERSION:2.0
CALSCALE:GREGORIAN
PRODID:-//MyApp//Calendar 1.0//EN
BEGIN:VEVENT
METHOD:PUBLISH
UID:65558@regionalniportaly.cz
DTSTAMP:20260419T155532Z
DTSTART;VALUE=DATE:20260606
DTEND;VALUE=DATE:20260607
SUMMARY:Offline story na poli
DESCRIPTION:První tanec na&nbsp\;poli. Kempus zahajuje sezonu 2026Interaktivní divadelní představení nejen pro&nbsp\;děti. Jemná poetika písničkáře nejen pro&nbsp\;dospělé. K&nbsp\;tomu vyprávění u&nbsp\;ohně nebo kreativní dílny. Tak vypadá multigenerační program akce První tanec na&nbsp\;poli. Symbolicky jím zahájíme sezonu 2026 v&nbsp\;Kempusu na&nbsp\;poli.Kde?&nbsp\;Kempus na&nbsp\;poli\, Bílovice 519Kdy?&nbsp\;Sobota 6. června 2026 od&nbsp\;16.0016.00 až 16.50Tanec Praha | Na&nbsp\;cestěPředstavení vás vtáhne do&nbsp\;zábavného světa cestování. Prostřednictvím hry každý překoná všechny překážky a&nbsp\;nakonec dospěje k&nbsp\;svému malému objevu.17.00 až 17.50Alois GöbelPod&nbsp\;písničkářským alter egem Alois Göbel se&nbsp\;skrývá původem uherskohradišťský houslista Alois Zatloukal. Rozjímavé texty se&nbsp\;nesou v&nbsp\;duchu temné poetiky\, ale jsou také plné touhy najít naději.18.15 až 19.15Storytelling u&nbsp\;ohně | Dominika ŠindelkováPříběhy pro&nbsp\;malé i&nbsp\;velké posluchače u&nbsp\;plápolajícího ohně. Máte chuť na&nbsp\;hluboké moudro z&nbsp\;mytologie\, nebo radši trochu naděje z&nbsp\;pohádky? Vypravěčka Dominika Šindelková vám dá na&nbsp\;výběr.Předprodej:&nbsp\;100 Kč dospělí\, 50 Kč dětiNa&nbsp\;místě:&nbsp\;120 Kč dospělí\, 80 Kč dětiA&nbsp\;po&nbsp\;akci rozhodně domů spěchat nemusíte. Když už budete u&nbsp\;zahájení jeho sezony\, můžete Kempus na&nbsp\;poli rovnou využít.&nbsp\;&nbsp\;Projekt Tanec Praha se uskutečňuje za finanční podpory Ministerstva kultury.&nbsp\;
LOCATION:Bílovice
END:VEVENT
END:VCALENDAR