BEGIN:VCALENDAR
VERSION:2.0
CALSCALE:GREGORIAN
PRODID:-//MyApp//Calendar 1.0//EN
BEGIN:VEVENT
METHOD:PUBLISH
UID:65618@regionalniportaly.cz
DTSTAMP:20260419T190018Z
DTSTART;VALUE=DATE:20260814
DTEND;VALUE=DATE:20260815
SUMMARY:Párty s Adamem Mišíkem
DESCRIPTION:Párty s hvězdným hostem Adamem Mišíkem a jeho kapelou.
LOCATION:Bzenec
END:VEVENT
END:VCALENDAR