BEGIN:VCALENDAR
VERSION:2.0
CALSCALE:GREGORIAN
PRODID:-//MyApp//Calendar 1.0//EN
BEGIN:VEVENT
METHOD:PUBLISH
UID:65738@regionalniportaly.cz
DTSTAMP:20260422T101357Z
DTSTART;VALUE=DATE:20260705
DTEND;VALUE=DATE:20260706
SUMMARY:Veselofestík 2026
DESCRIPTION:Zážitek\, který na Moravě ještě nebyl!Přijďte s námi zažít VESELOFESTÍK – festival pro celou rodinu\, kde se děti ponoří do světa fantazie a vy si užijete den plný radosti.Barevní dinosauři ožívají!Můžete se těšit na:&nbsp\;Sensory play\, tvoření a objevování na každém krokuShow živých dinosaurů\, divadlo i tanecNadupaný program od rána do večeraBohatá tombola a spousta krásných zón pro dětiSportovní aktivity- Woodboard zóna a skákací hradTaneční program s Elisdensingem i dětská diskotékafood zóna s občerstvenímstánky s kvalitními produkty a inspirací pro děti i rodiče&nbsp\;Tohle není jen akce… tohle je zážitek\, na který se nezapomínáZámecký park Veselí nad Moravou 5. 7. 2026 start v 9:30Předprodej: Dítě 370 Kč | Dospělý 190 KčNa místě: Dítě 450 Kč | Dospělý 250 KčDěti do 12 měsíců zdarma (u vstupu je třeba prokázat ZP dítěte)Festival\, na kterém nesmíš chybět! Tak koho vezmeš s sebou?
LOCATION:Veselí nad Moravou
END:VEVENT
END:VCALENDAR