BEGIN:VCALENDAR
VERSION:2.0
CALSCALE:GREGORIAN
PRODID:-//MyApp//Calendar 1.0//EN
BEGIN:VEVENT
METHOD:PUBLISH
UID:65818@regionalniportaly.cz
DTSTAMP:20260424T131710Z
DTSTART;VALUE=DATE:20260428
DTEND;VALUE=DATE:20260429
SUMMARY:Letní škola 2001
DESCRIPTION:Léto 2001. Sedmnáctiletý Kien se zářivě červeným účesem se po deseti letech ve Vietnamu vrací k rodině do tržnice v Chebu. Místo vřelého přivítání ho čeká odcizený otec\, ustaraná matka a mladší bratr\, který mu nic nedaruje. Mezi nažehlováním pokémonů na trička\, drilováním češtiny a randěním u jezera vyplouvá na povrch tajemství\, jehož odhalení převrátí život tržnice vzhůru nohama…\n \nVstupné: 140 Kč\nVstupenky v předprodeji online nebo půl hodiny před filmem na pokladně kina Svět Strážnice.
LOCATION:Strážnice
END:VEVENT
END:VCALENDAR