BEGIN:VCALENDAR
VERSION:2.0
CALSCALE:GREGORIAN
PRODID:-//MyApp//Calendar 1.0//EN
BEGIN:VEVENT
METHOD:PUBLISH
UID:65820@regionalniportaly.cz
DTSTAMP:20260424T140052Z
DTSTART;VALUE=DATE:20260430
DTEND;VALUE=DATE:20260501
SUMMARY:Lojza a Pepa: Žíznivé dobrodružství kamarádů Včelky Máji
DESCRIPTION:Na louce včelky Máji došla voda – a to je pořádný průšvih!\n \nZatímco ostatní hmyz hledá řešení\, dva popletení kamarádi Lojza a Pepa se rozhodnou pomoci po svém. I když jsou trochu nešikovní a všechno jim tak trochu padá z rukou (i z tykadel)\, mají hlavu plnou bláznivých nápadů.Na své cestě potkají tajemnou komáří superhrdinku a zažijí spolu spoustu legračních nehod\, smíchu a překvapení. Dokážou společně zachránit louku včelky Máji a vrátit do ní vodu?\nVeselé animované dobrodružství ze světa včelky Máji plné humoru\, fantazie a přátelství\, které pobaví malé i velké diváky. Protože i ti nejmenší hrdinové dokážou velké věci! změna programu vyhrazena\n \nPřístupný / Německo\, Irsko / 2026 / animovaný / dabing / Režie:  Sean Heuston\n \nVstupné: 150\,- dospělí\, 130\,- dětiVstupenky v předprodeji online nebo půl hodiny před filmem v kině Svět Strážnice.
LOCATION:Strážnice
END:VEVENT
END:VCALENDAR