BEGIN:VCALENDAR
VERSION:2.0
CALSCALE:GREGORIAN
PRODID:-//MyApp//Calendar 1.0//EN
BEGIN:VEVENT
METHOD:PUBLISH
UID:65825@regionalniportaly.cz
DTSTAMP:20260424T123742Z
DTSTART;VALUE=DATE:20260505
DTEND;VALUE=DATE:20260506
SUMMARY:Ovce žerou první
DESCRIPTION:Dnešek je nejlepší den! Vítězové se nevymlouvají! Uprostřed problémů leží příležitost… Sociální sítě jsou plné zaručených návodů\, jak být neskonale šťastný a nechutně bohatý. Co se ale stane\, když tyhle rady vezmete vážně a začnete se jimi skutečně řídit? Právě o tom je satirická komedie Ovce žerou první\, která se trefuje do fenoménu seberozvoje a kultu motivačních řečníků.\n \nPřístupnost 12+ / 2026 / Česko / komedie / Režie: Jan Musil Přejmenovaný \n \nVstupné: 150 \,-Vstupenky v předprodeji online nebo půl hodiny před filmem v kině Svět Strážnice. 
LOCATION:Strážnice
END:VEVENT
END:VCALENDAR