BEGIN:VCALENDAR
VERSION:2.0
CALSCALE:GREGORIAN
PRODID:-//MyApp//Calendar 1.0//EN
BEGIN:VEVENT
METHOD:PUBLISH
UID:65826@regionalniportaly.cz
DTSTAMP:20260424T154313Z
DTSTART;VALUE=DATE:20260507
DTEND;VALUE=DATE:20260508
SUMMARY:Spasitel - kino
DESCRIPTION:Učitel přírodopisu Ryland Grace (Ryan Gosling) se probudí na vesmírné lodi vzdálené světelné roky od domova\, aniž by si pamatoval\, kdo je a jak se tam dostal. Když se mu paměť vrátí\, začne odhalovat svůj úkol: vyřešit záhadu tajemné látky\, která způsobuje vyhasínání Slunce. Musí využít svých vědeckých znalostí a neortodoxních nápadů\, aby zachránil vše na Zemi před zánikem... ale díky nečekanému přátelství na to možná nebude muset být sám.\n \nPřístupnost 12+ / 2026 / USA / sci-fi / dabing / Režie: Phil Lord\, Christopher Miller \nVstupné: 160 \,-Vstupenky v předprodeji online nebo půl hodiny před filmem v kině Svět Strážnice.
LOCATION:Strážnice
END:VEVENT
END:VCALENDAR