BEGIN:VCALENDAR
VERSION:2.0
CALSCALE:GREGORIAN
PRODID:-//MyApp//Calendar 1.0//EN
BEGIN:VEVENT
METHOD:PUBLISH
UID:65864@regionalniportaly.cz
DTSTAMP:20260424T145625Z
DTSTART;VALUE=DATE:20260528
DTEND;VALUE=DATE:20260529
SUMMARY:Šimon Pánek v Přímé řeči s Petrem Vavrouškou
DESCRIPTION:Poprvé na sebe strhl pozornost jako jeden z vůdců studentského hnutí během Sametové revoluce. Při mnoha událostech stál po boku Václava Havla\, který v něm viděl potenciál politického lídra a možná i svého nástupce. Šimon Pánek se ale vydal jinou cestou. Svoji energii věnoval rozvoji humanitární organizace Člověk v tísni\, která od roku 1992 pomáhá ve všech koutech světa. Co tato cesta obnáší? Jak do ní promlouvá politika? Dozvíte se v Přímé řeči.
LOCATION:Bílovice
END:VEVENT
END:VCALENDAR