BEGIN:VCALENDAR
VERSION:2.0
CALSCALE:GREGORIAN
PRODID:-//MyApp//Calendar 1.0//EN
BEGIN:VEVENT
METHOD:PUBLISH
UID:65888@regionalniportaly.cz
DTSTAMP:20260425T134304Z
DTSTART;VALUE=DATE:20260501
DTEND;VALUE=DATE:20260502
SUMMARY:Hvězdárna Ždánice: astropořady v květnu
DESCRIPTION:
LOCATION:Ždánice
END:VEVENT
END:VCALENDAR