BEGIN:VCALENDAR
VERSION:2.0
CALSCALE:GREGORIAN
PRODID:-//MyApp//Calendar 1.0//EN
BEGIN:VEVENT
METHOD:PUBLISH
UID:65903@regionalniportaly.cz
DTSTAMP:20260425T101707Z
DTSTART;VALUE=DATE:20260513
DTEND;VALUE=DATE:20260514
SUMMARY:13!! v BO café
DESCRIPTION:13!&nbsp\;náhoda? smůla? nebo zatraceně dobrý večer? Listovani.cz přiváží do Uherského Hradiště mozaiku povídek\, kde tma dostává &nbsp\;punchline a černý humor svítí víc než reflektory&nbsp\;Bo café\, Masarykovo nám. 15513. 5.16:30„13! je šťastné číslo. Přijď se přesvědčit.“Spisovatel\, stand-up komik a milovník absurdna Pavel Tomeš servíruje příběhy\, které tě rozesmějí i tam\, kde bys to fakt nečekal.A naživo to rozjedou: Pavel Oubram &amp\; Zuzana Valešová (alt. Daniela Šišková)trochu temnédost vtipnéa rozhodně ne neškodné
LOCATION:Uherské Hradiště
END:VEVENT
END:VCALENDAR